BEGIN:VCALENDAR
VERSION:2.0
PRODID:-//Dive Rescue International - ECPv6.15.17.1//NONSGML v1.0//EN
CALSCALE:GREGORIAN
METHOD:PUBLISH
X-WR-CALNAME:Dive Rescue International
X-ORIGINAL-URL:https://diverescueintl.com
X-WR-CALDESC:Events for Dive Rescue International
REFRESH-INTERVAL;VALUE=DURATION:PT1H
X-Robots-Tag:noindex
X-PUBLISHED-TTL:PT1H
BEGIN:VTIMEZONE
TZID:America/Denver
BEGIN:DAYLIGHT
TZOFFSETFROM:-0700
TZOFFSETTO:-0600
TZNAME:MDT
DTSTART:20250309T090000
END:DAYLIGHT
BEGIN:STANDARD
TZOFFSETFROM:-0600
TZOFFSETTO:-0700
TZNAME:MST
DTSTART:20251102T080000
END:STANDARD
BEGIN:DAYLIGHT
TZOFFSETFROM:-0700
TZOFFSETTO:-0600
TZNAME:MDT
DTSTART:20260308T090000
END:DAYLIGHT
BEGIN:STANDARD
TZOFFSETFROM:-0600
TZOFFSETTO:-0700
TZNAME:MST
DTSTART:20261101T080000
END:STANDARD
BEGIN:DAYLIGHT
TZOFFSETFROM:-0700
TZOFFSETTO:-0600
TZNAME:MDT
DTSTART:20270314T090000
END:DAYLIGHT
BEGIN:STANDARD
TZOFFSETFROM:-0600
TZOFFSETTO:-0700
TZNAME:MST
DTSTART:20271107T080000
END:STANDARD
END:VTIMEZONE
BEGIN:VEVENT
DTSTART;TZID=America/Denver:20260516T080000
DTEND;TZID=America/Denver:20260516T170000
DTSTAMP:20260423T090740
CREATED:20260330T221100Z
LAST-MODIFIED:20260330T222050Z
UID:10000042-1778918400-1778950800@diverescueintl.com
SUMMARY:Interspiro Technician
DESCRIPTION:OBJECTIVE\nThe technicians who complete this training program will be certified by Interspiro to perform annual service\, 6-year service\, and field maintenance on their Divator MK II (AGA) full face masks and Hatch or ABV. With this training\, your department could not only save on the cost of repairs but also reduce the amount of downtime for your mask. \nPREREQUISITES\n\nAt least 18 years old\n\nBRING TO CLASS\n\nStudents: Divator Mask and Annual Service Kit\nTeams: First Stage Regulator\, Level Bar Tool\, and Mini-Test Kit\n\nREQUIRED SUPPLIES:\n\nInterspiro Mini Test Kit (1 per department)\nInterspiro 6-Year Overhaul Kit (1 per mask)\nInterspiro Annual Re-build Kit (1 per mask)\nAmbient Air Aperture rebuild kit specific to your full face\nmask (1 per mask)
URL:https://diverescueintl.com/event/interspiro-technician/
LOCATION:Prince Frederick Volunteer Fire Department\, Solomons Island Rd. S\, Prince Frederick\, MD\, 20678\, United States
CATEGORIES:Non-Dive Training Programs
ATTACH;FMTTYPE=image/jpeg:https://diverescueintl.com/wp-content/uploads/2026/03/IMG_0710-scaled-e1774909241350.jpg
GEO:38.5242568;-76.5752433
X-APPLE-STRUCTURED-LOCATION;VALUE=URI;X-ADDRESS=Prince Frederick Volunteer Fire Department Solomons Island Rd. S Prince Frederick MD 20678 United States;X-APPLE-RADIUS=500;X-TITLE=Solomons Island Rd. S:geo:-76.5752433,38.5242568
END:VEVENT
END:VCALENDAR