BEGIN:VCALENDAR
VERSION:2.0
PRODID:-//Dive Rescue International - ECPv6.15.17.1//NONSGML v1.0//EN
CALSCALE:GREGORIAN
METHOD:PUBLISH
X-WR-CALNAME:Dive Rescue International
X-ORIGINAL-URL:https://diverescueintl.com
X-WR-CALDESC:Events for Dive Rescue International
REFRESH-INTERVAL;VALUE=DURATION:PT1H
X-Robots-Tag:noindex
X-PUBLISHED-TTL:PT1H
BEGIN:VTIMEZONE
TZID:America/Denver
BEGIN:DAYLIGHT
TZOFFSETFROM:-0700
TZOFFSETTO:-0600
TZNAME:MDT
DTSTART:20250309T090000
END:DAYLIGHT
BEGIN:STANDARD
TZOFFSETFROM:-0600
TZOFFSETTO:-0700
TZNAME:MST
DTSTART:20251102T080000
END:STANDARD
BEGIN:DAYLIGHT
TZOFFSETFROM:-0700
TZOFFSETTO:-0600
TZNAME:MDT
DTSTART:20260308T090000
END:DAYLIGHT
BEGIN:STANDARD
TZOFFSETFROM:-0600
TZOFFSETTO:-0700
TZNAME:MST
DTSTART:20261101T080000
END:STANDARD
BEGIN:DAYLIGHT
TZOFFSETFROM:-0700
TZOFFSETTO:-0600
TZNAME:MDT
DTSTART:20270314T090000
END:DAYLIGHT
BEGIN:STANDARD
TZOFFSETFROM:-0600
TZOFFSETTO:-0700
TZNAME:MST
DTSTART:20271107T080000
END:STANDARD
END:VTIMEZONE
BEGIN:VEVENT
DTSTART;TZID=America/Denver:20260507T080000
DTEND;TZID=America/Denver:20260507T170000
DTSTAMP:20260423T225055
CREATED:20260423T184550Z
LAST-MODIFIED:20260423T184550Z
UID:10000047-1778140800-1778173200@diverescueintl.com
SUMMARY:Dry Suit Repair
DESCRIPTION:OBJECTIVE\nStudents in this class will discuss how to maintain and repair minor tears\, punctures\, and holes in vulcanized rubber and trilaminate dry suits. There will be a demonstration of wrist ring\, cuff seal\, neck seal\, and hood installation. Leak testing procedures will also be addressed. Glue and patch materials will be provided for training use during the class. Students are encouraged to bring their own dry suits to class for repair and testing. \nPREREQUISITES\n\nMember of a Public Safety Agency\nAt least 18 years old and 21 years of age for the Trainer course\nRSTC Medical Statement\nCurrent First Aid\, EMT or Paramedic certification\nCurrent CPR certification\n\nBRING TO CLASS\n\nUS Coast Guard approved PFD with knife and whistle\nAdequate clothing and protection from the environment\nPen and paper for note- taking and sketching.\n\nDiving students must provide their own equipment: Wetsuit or dry suit\, scuba regulator: recently serviced + environmentally protected with alternate air source (i.e.: octopus)\, timing device\, depth + submersible pressure gauge\, BC with oral/power inflator\, 4 tanks with current Hydro + VIP\, mask\, snorkel\, fins\, weight belt + 2 cutting tools (knife\, wire cutters\, or trauma shears).
URL:https://diverescueintl.com/event/dry-suit-repair-3/
LOCATION:Superior Fire Department HQ\, 3326 Tower Ave\, Superior\, WI\, 54880\, United States
CATEGORIES:Non-Dive Training Programs
ATTACH;FMTTYPE=image/jpeg:https://diverescueintl.com/wp-content/uploads/2025/11/dry-suit-repair.jpg
GEO:46.6993821;-92.1032117
X-APPLE-STRUCTURED-LOCATION;VALUE=URI;X-ADDRESS=Superior Fire Department HQ 3326 Tower Ave Superior WI 54880 United States;X-APPLE-RADIUS=500;X-TITLE=3326 Tower Ave:geo:-92.1032117,46.6993821
END:VEVENT
END:VCALENDAR